{"text_format":"3","workbook":"xlsx","n_sheets":2,"sheets":["Daños","Datos Básicos"],"not_rendered":{"images":4,"macros":1,"defined_names":2,"comments":2},"read":"whole","date_system":"1900"}

{"sheet":"Daños","index":0,"n_rows":87,"n_cols":24,"rows_kept":87,"merged":[[5,0,6,0],[5,1,5,9],[5,12,6,12],[5,13,5,21],[14,12,15,12],[14,13,14,21],[20,12,20,14],[21,12,21,15],[22,12,23,12],[22,13,22,21],[23,0,24,0],[23,1,23,9],[30,12,30,16],[31,12,32,12],[31,13,31,21],[42,0,42,2],[43,0,43,3],[44,0,45,0],[44,1,44,9],[58,2,58,3],[59,0,59,4],[60,0,61,0],[60,1,60,9],[79,3,79,5]]}
["Determinación de daños",{"$nulls":11},"Costo financiero"]
[null,"IANCA - Instituto Argentino de Negociación, Conciliación y Arbitraje ",{"$nulls":11},"IANCA - Instituto Argentino de Negociación, Conciliación y Arbitraje "]
[]
["Ante proveedor",{"$nulls":11},"Ante proveedor"]
["Tiempo dedicado para atender el daño y sus derivaciones",{"$nulls":8},"© Miguel Ángel Martín ",null,null,"Tiempo dedicado para atender el daño y sus derivaciones"]
["Aspecto","Tiempo de cada una de la intervenciones",{"$nulls":8},"Total",null,"Tiempos","Tiempo de cada una de la intervenciones",{"$nulls":8},"Total"]
[null,"2017-05-03",{"$nulls":8},"minutos",null,null,{"$f":"IF(B7=\"\",\"\",B7)","v":"2017-05-03"},{"$f":"IF(C7=\"\",\"\",C7)","v":""},"","","","","","",""]
["Traslado",100,{"$nulls":8},{"$f":"IF(B8=\"\",0,SUM(B8:J8))","v":100},null,"Totales minutos:",{"$f":"IF(B21=0,\"\",B21)","v":100},{"$f":"IF(C21=0,\"\",C21)","v":""},"","","","","","",""]
["Trámites en oficinas del proveedor",{"$nulls":9},{"$f":"IF(B9=\"\",0,SUM(B9:J9))","v":0},null,"Diás de financiación:",{"$f":"IF(N7=\"\",\"\",$G$82-N7)","v":304},"","","","","","","",""]
["Cumplimentación de formularios",{"$nulls":9},0,null,"Costo dedicación minuto:",{"$f":"IF(N6=\"\",\"\",'Datos Básicos'!$K$19/60)","v":{"v":4.166666666666667,"d":"$ 4.17"}},{"$f":"IF(O6=\"\",\"\",'Datos Básicos'!$K$19/60)","v":""},{"$f":"IF(P6=\"\",\"\",'Datos Básicos'!$K$19/60)","v":""},{"$f":"IF(Q6=\"\",\"\",'Datos Básicos'!$K$19/60)","v":""},{"$f":"IF(R6=\"\",\"\",'Datos Básicos'!$K$19/60)","v":""},{"$f":"IF(S6=\"\",\"\",'Datos Básicos'!$K$19/60)","v":""},{"$f":"IF(T6=\"\",\"\",'Datos Básicos'!$K$19/60)","v":""},{"$f":"IF(U6=\"\",\"\",'Datos Básicos'!$K$19/60)","v":""},{"$f":"IF(V6=\"\",\"\",'Datos Básicos'!$K$19/60)","v":""}]
["Redacción de notas",{"$nulls":9},0,null,"Costo financiero:",{"$f":"IF(N6=\"\",\"\",(N8*N10*'Datos Básicos'!$E$13*N9))","v":{"v":86.7579908675799,"d":"$ 86.76"}},{"$f":"IF(O6=\"\",\"\",(O8*O10*'Datos Básicos'!$E$13*O9))","v":""},{"$f":"IF(P6=\"\",\"\",(P8*P10*'Datos Básicos'!$E$13*P9))","v":""},{"$f":"IF(Q6=\"\",\"\",(Q8*Q10*'Datos Básicos'!$E$13*Q9))","v":""},{"$f":"IF(R6=\"\",\"\",(R8*R10*'Datos Básicos'!$E$13*R9))","v":""},{"$f":"IF(S6=\"\",\"\",(S8*S10*'Datos Básicos'!$E$13*S9))","v":""},{"$f":"IF(T6=\"\",\"\",(T8*T10*'Datos Básicos'!$E$13*T9))","v":""},{"$f":"IF(U6=\"\",\"\",(U8*U10*'Datos Básicos'!$E$13*U9))","v":""},{"$f":"IF(V6=\"\",\"\",(V8*V10*'Datos Básicos'!$E$13*V9))","v":""},{"$f":"SUM(N11:V11)","v":{"v":86.7579908675799,"d":"$ 86.76"}},"Financiero"]
["Consecución de documentación (facturas, tickets, presupuestos, etcétera)",{"$nulls":9},0,null,"Valor dedicación:",{"$f":"IF(N6=\"\",\"\",N8*N10)","v":{"v":416.6666666666667,"d":"$ 416.67"}},{"$f":"IF(O6=\"\",\"\",O8*O10)","v":""},"","","","","","","",{"$f":"SUM(N12:V12)","v":{"v":416.6666666666667,"d":"$ 416.67"}},"Dedicación"]
["Copias de documentación",{"$nulls":9},0]
["Despacho por correo (físico o electrónico)",{"$nulls":9},0,null,"Erogaciones o pérdida de ingresos con cada responsable de la provisión"]
["Investigación del daño",{"$nulls":9},0,null,"Aspecto","Importe de cada una de la intervenciones",{"$nulls":8},"Total"]
["Consultas a especialistas",{"$nulls":9},0,null,null,{"$f":"IF(B25=\"\",\"\",B25)","v":"2017-05-03"},{"$f":"IF(C25=\"\",\"\",C25)","v":""},"","","","","","",""]
["Malestar, frustración, contrariedad, etcétera",{"$nulls":9},0,null,"Total erogaciones:",{"$f":"IF(B38=0,\"\",B38)","v":{"v":150,"d":"$ 150.00"}},{"$f":"IF(C38=0,\"\",C38)","v":""},"","","","","","","",{"$f":"SUM(N17:V17)","v":{"v":150,"d":"$ 150.00"}},"Erogaciones"]
["Reparación de daños por fallas del producto o servicio",{"$nulls":9},0,null,"Diás de financiación:",{"$f":"IF(N16=\"\",\"\",$G$82-N16)","v":304},"","","","","","","",""]
["Otros",{"$nulls":9},0,null,"Costo financiero:",{"$f":"IF(N16=\"\",\"\",(N17*'Datos Básicos'!$E$13*N18))","v":{"v":31.232876712328764,"d":"$ 31.23"}},{"$f":"IF(O16=\"\",\"\",(O17*'Datos Básicos'!$E$13*O18))","v":""},{"$f":"IF(P16=\"\",\"\",(P17*'Datos Básicos'!$E$13*P18))","v":""},{"$f":"IF(Q16=\"\",\"\",(Q17*'Datos Básicos'!$E$13*Q18))","v":""},{"$f":"IF(R16=\"\",\"\",(R17*'Datos Básicos'!$E$13*R18))","v":""},{"$f":"IF(S16=\"\",\"\",(S17*'Datos Básicos'!$E$13*S18))","v":""},{"$f":"IF(T16=\"\",\"\",(T17*'Datos Básicos'!$E$13*T18))","v":""},{"$f":"IF(U16=\"\",\"\",(U17*'Datos Básicos'!$E$13*U18))","v":""},{"$f":"IF(V16=\"\",\"\",(V17*'Datos Básicos'!$E$13*V18))","v":""},{"$f":"SUM(N19:V19)","v":{"v":31.232876712328764,"d":"$ 31.23"}},"Financiero"]
["Otros",{"$nulls":9},0]
["Total minutos:",{"$f":"SUM(B8:B20)","v":100},{"$f":"SUM(C8:C20)","v":0},0,0,0,0,0,0,0,100,null,"Reclamo ante Organism(os) Oficial(es) "]
[{"$nulls":12},"Inversión de tiempo con cada responsable organismo"]
["Erogaciones o pérdida de ingresos con cada responsable de la provisión",{"$nulls":11},"Aspecto","Tiempo de cada una de la intervenciones",{"$nulls":8},"Total"]
["Aspecto","Importe de cada una de la intervenciones",{"$nulls":8},"Total",null,null,{"$f":"IF(B46=\"\",\"\",B46)","v":"2017-06-20"},{"$f":"IF(C46=\"\",\"\",C46)","v":""},"","","","","","",""]
[null,"2017-05-03",{"$nulls":8},"pesos",null,"Totales minutos:",{"$f":"IF(B58=0,\"\",B58)","v":{"v":1000,"d":"1,000"}},{"$f":"IF(C58=0,\"\",C58)","v":""},"","","","","","",""]
["Transporte",{"$nulls":9},{"$f":"IF(B26=\"\",0,SUM(B26:J26))","v":{"v":0,"d":"$ 0.00"}},null,"Diás de financiación:",{"$f":"IF(N24=\"\",\"\",$G$82-N24)","v":256},"","","","","","","",""]
["Papelería para notas",{"$nulls":9},{"v":0,"d":"$ 0.00"},null,"Costo dedicación minuto:",{"$f":"N10","v":{"v":4.166666666666667,"d":"$ 4.17"}},{"$f":"O10","v":""},"","","","","","",""]
["Fotocopias",{"$nulls":9},{"v":0,"d":"$ 0.00"},null,"Costo financiero:",{"$f":"IF(N24=\"\",\"\",(N25*N27*'Datos Básicos'!$E$13*N26))","v":{"v":730.5936073059361,"d":"$ 730.59"}},{"$f":"IF(O24=\"\",\"\",(O25*O27*'Datos Básicos'!$E$13*O26))","v":""},{"$f":"IF(P24=\"\",\"\",(P25*P27*'Datos Básicos'!$E$13*P26))","v":""},{"$f":"IF(Q24=\"\",\"\",(Q25*Q27*'Datos Básicos'!$E$13*Q26))","v":""},{"$f":"IF(R24=\"\",\"\",(R25*R27*'Datos Básicos'!$E$13*R26))","v":""},{"$f":"IF(S24=\"\",\"\",(S25*S27*'Datos Básicos'!$E$13*S26))","v":""},{"$f":"IF(T24=\"\",\"\",(T25*T27*'Datos Básicos'!$E$13*T26))","v":""},{"$f":"IF(U24=\"\",\"\",(U25*U27*'Datos Básicos'!$E$13*U26))","v":""},{"$f":"IF(V24=\"\",\"\",(V25*V27*'Datos Básicos'!$E$13*V26))","v":""},{"$f":"SUM(N28:V28)","v":{"v":730.5936073059361,"d":"$ 730.59"}},"Financiero"]
["Correspondencia",{"$nulls":9},{"v":0,"d":"$ 0.00"},null,"Valor dedicación:",{"$f":"IF(N23=\"\",\"\",N25*N27)","v":{"v":4166.666666666667,"d":"$ 4,166.67"}},{"$f":"IF(O23=\"\",\"\",O25*O27)","v":""},"","","","","","","",{"$f":"SUM(N29:V29)","v":{"v":4166.666666666667,"d":"$ 4,166.67"}},"Dedicación"]
["Comunicaciones telefónicas",{"$nulls":9},{"v":0,"d":"$ 0.00"}]
["Sustitución del elemento para poder atender las necesidades",{"$nulls":9},{"v":0,"d":"$ 0.00"},null,"Erogaciones o pérdida de ingresos con cada organismo"]
["Retribuciones perdidas (lucro cesante o erogaciones)",{"v":150,"d":"$ 150.00"},{"$nulls":8},{"v":150,"d":"$ 150.00"},null,"Aspecto","Importe de cada una de la intervenciones"]
["Asesoramiento",{"$nulls":9},{"v":0,"d":"$ 0.00"},null,null,{"$f":"IF(B62=\"\",\"\",B62)","v":"2017-03-03"},{"$f":"IF(C62=\"\",\"\",C62)","v":""},"","","","","","",""]
["Reparación del producto",{"$nulls":9},{"v":0,"d":"$ 0.00"},null,"Total erogaciones:",{"$f":"IF(B74=0,\"\",B74)","v":{"v":600,"d":"$ 600.00"}},{"$f":"IF(C74=0,\"\",C74)","v":""},"","","","","","","",{"$f":"SUM(N34:V34)","v":{"v":600,"d":"$ 600.00"}},"Erogaciones"]
["Reparación de daños por fallos del producto o servicio",{"$nulls":9},{"v":0,"d":"$ 0.00"},null,"Diás de financiación:",{"$f":"IF(N33=\"\",\"\",$G$82-N33)","v":365},"","","","","","","",""]
["Otros",{"$nulls":9},{"v":0,"d":"$ 0.00"},null,"Costo financiero:",{"$f":"IF(N33=\"\",\"\",(N34*'Datos Básicos'!$E$13*N35))","v":{"v":150,"d":"$ 150.00"}},{"$f":"IF(O33=\"\",\"\",(O34*'Datos Básicos'!$E$13*O35))","v":""},{"$f":"IF(P33=\"\",\"\",(P34*'Datos Básicos'!$E$13*P35))","v":""},{"$f":"IF(Q33=\"\",\"\",(Q34*'Datos Básicos'!$E$13*Q35))","v":""},{"$f":"IF(R33=\"\",\"\",(R34*'Datos Básicos'!$E$13*R35))","v":""},{"$f":"IF(S33=\"\",\"\",(S34*'Datos Básicos'!$E$13*S35))","v":""},{"$f":"IF(T33=\"\",\"\",(T34*'Datos Básicos'!$E$13*T35))","v":""},{"$f":"IF(U33=\"\",\"\",(U34*'Datos Básicos'!$E$13*U35))","v":""},{"$f":"IF(V33=\"\",\"\",(V34*'Datos Básicos'!$E$13*V35))","v":""},{"$f":"SUM(N36:V36)","v":{"v":150,"d":"$ 150.00"}},"Financiero"]
["Otros",{"$nulls":9},{"v":0,"d":"$ 0.00"},{"$nulls":11},{"$f":"W12+W29","v":{"v":4583.333333333334,"d":"$ 4,583.33"}},"Dedicación"]
["Total pesos:",{"$f":"SUM(B26:B37)","v":{"v":150,"d":"$ 150.00"}},{"$f":"SUM(C26:C37)","v":{"v":0,"d":"$ 0.00"}},{"v":0,"d":"$ 0.00"},{"v":0,"d":"$ 0.00"},{"v":0,"d":"$ 0.00"},{"v":0,"d":"$ 0.00"},{"v":0,"d":"$ 0.00"},{"v":0,"d":"$ 0.00"},{"v":0,"d":"$ 0.00"},{"v":150,"d":"$ 150.00"},{"$nulls":11},{"$f":"W17+W34","v":{"v":750,"d":"$ 750.00"}},"Erogaciones"]
[{"$nulls":22},{"$f":"W11+W19+W28+W36","v":{"v":998.5844748858448,"d":"$ 998.58"}},"Financiero"]
["Deteminación de daños"]
[null,"IANCA - Instituto Argentino de Negociación, Conciliación y Arbitraje "]
[]
["Reclamo ante Organism(os) Oficial(es) "]
["Inversión de tiempo con cada responsable organismo"]
["Aspecto","Tiempo de cada una de la intervenciones",{"$nulls":8},"Total"]
[null,"2017-06-20",{"$nulls":8},"minutos"]
["Traslado",{"$nulls":9},{"$f":"IF(B47=\"\",0,SUM(B47:J47))","v":0}]
["Trámites en oficinas del organismo",{"$nulls":9},0]
["Cumplimentación de formularios",{"$nulls":9},0]
["Redacción de notas",{"$nulls":9},0]
["Consecución de documentación (facturas, tickets, presupuestos, etcétera)",{"$nulls":9},0]
["Copias de documentación",{"$nulls":9},0]
["Despacho por correo (físico o electrónico)",{"v":1000,"d":"1,000"},{"$nulls":8},{"v":1000,"d":"1,000"}]
["Consultas a especialistas/comunicaciones telefónicas",{"$nulls":9},0]
["Malestar, frustración, contrariedad, etcétera",{"$nulls":9},0]
["Otros",{"$nulls":9},0]
["Otros",{"$nulls":9},0]
["Total minutos:",{"$f":"SUM(B47:B57)","v":1000},{"$f":"SUM(C47:C57)","v":0},0,0,0,0,0,0,0,{"v":1000,"d":"1,000"}]
[]
["Erogaciones o pérdida de ingresos con cada organismo",{"$nulls":8},"© Miguel Ángel Martín "]
["Aspecto","Importe de cada una de la intervenciones",{"$nulls":8},"Total"]
[null,"2017-03-03",{"$nulls":8},"pesos"]
["Transporte",{"v":600,"d":"$ 600.00"},{"$nulls":8},{"$f":"IF(B63=\"\",0,SUM(B63:J63))","v":{"v":600,"d":"$ 600.00"}}]
["Papelería para notas",{"$nulls":9},{"v":0,"d":"$ 0.00"}]
["Fotocopias",{"$nulls":9},{"v":0,"d":"$ 0.00"}]
["Correspondencia",{"$nulls":9},{"v":0,"d":"$ 0.00"}]
["Comunicaciones telefónicas",{"$nulls":9},{"v":0,"d":"$ 0.00"}]
["Sustitución del elemento para poder atender las necesidades",{"$nulls":9},{"v":0,"d":"$ 0.00"}]
["Retribuciones perdidas (lucro cesante o erogaciones)",{"$nulls":9},{"v":0,"d":"$ 0.00"}]
["Asesoramiento",{"$nulls":9},{"v":0,"d":"$ 0.00"}]
["Averiguación de tramitación",{"$nulls":9},{"v":0,"d":"$ 0.00"}]
["Otros",{"$nulls":9},{"v":0,"d":"$ 0.00"}]
["Otros",{"$nulls":9},{"v":0,"d":"$ 0.00"}]
["Total pesos:",{"$f":"SUM(B63:B73)","v":{"v":600,"d":"$ 600.00"}},{"$f":"SUM(C63:C73)","v":{"v":0,"d":"$ 0.00"}},{"v":0,"d":"$ 0.00"},{"v":0,"d":"$ 0.00"},{"v":0,"d":"$ 0.00"},{"v":0,"d":"$ 0.00"},{"v":0,"d":"$ 0.00"},{"v":0,"d":"$ 0.00"},{"v":0,"d":"$ 0.00"},{"v":600,"d":"$ 600.00"}]
[]
["Deteminación de daños"]
[null,"IANCA - Instituto Argentino de Negociación, Conciliación y Arbitraje "]
[]
["Determinación patrimonial sintética a resarcir",null,null,"© Miguel Ángel Martín "]
["Aspecto","Importes",null,"Concepto",null,null,"Valores"]
["Daños patrimoniales",{"$f":"G83","v":{"v":1000,"d":"$ 1,000.00"}},null,"Fecha de daño original",null,null,"10/17/16"]
["Daño por erogaciones",{"$f":"W38","v":{"v":750,"d":"$ 750.00"}},null,"Fecha actual",null,null,"2018-03-03"]
["Daños dedicación",{"$f":"W37","v":{"v":4583.333333333334,"d":"$ 4,583.33"}},null,"Daño original:",null,null,{"v":1000,"d":"$ 1,000.00"}]
["Sutotal patrimonializado:",{"$f":"SUM(B81:B83)","v":{"v":6333.333333333334,"d":"$ 6,333.33"}},null,"Tasa interés:",null,null,{"v":0.25,"d":"25.00%"},"anual"]
["Daño financiero:",{"$f":"W39","v":{"v":998.5844748858448,"d":"$ 998.58"}},{"$nulls":4},{"$f":"G84/365","v":{"v":6.8493150684931507E-4,"d":"0.07%"}},"Diaria"]
["Total patrimonializado:",{"$f":"B84+B85","v":{"v":7331.917808219178,"d":"$ 7,331.92"}}]
["No incluye daño moral"]

{"sheet":"Datos Básicos","index":1,"n_rows":19,"n_cols":14,"rows_kept":19}
["Determinación de daños",{"$nulls":8},"Relación de dependencia","Categoría A",1,{"v":84000,"d":"$ 84,000"},{"v":68,"d":"$ 68.00"}]
["Datos básicos",{"$nulls":8},"Monotributo","Categoría B",2,{"v":126000,"d":"$ 126,000"},{"v":131,"d":"$ 131.00"}]
[null,"IANCA - Instituto Argentino de Negociación, Conciliación y Arbitraje ",{"$nulls":7},"Jubilación o Pensión","Categoría C",3,{"v":168000,"d":"$ 168,000"},{"v":224,"d":"$ 224.00"}]
[{"$nulls":9},"Rentista","Categoría D",4,{"v":252000,"d":"$ 252,000"},{"v":368,"d":"$ 368.00"}]
[{"$nulls":9},"Eventual","Categoría E",5,{"v":336000,"d":"$ 336,000"},{"v":700,"d":"$ 700.00"}]
[{"$nulls":3},"® Miguel Ángel Martín ",{"$nulls":5},"Profesional tarifado","Categoría F",6,{"v":420000,"d":"$ 420,000"},{"v":963,"d":"$ 963.00"}]
["Damnificado(s):",null,null,"Concepto","Valor",{"$nulls":4},"Empresario","Categoría G",7,{"v":504000,"d":"$ 504,000"},{"v":1225,"d":"$ 1,225.00"}]
["Tipo de ingresos:",null,null,"SMVM",{"v":8060,"d":"$ 8,060.00"},{"$nulls":4},"Otra","Categoría H",8,{"v":700000,"d":"$ 700,000"},{"v":2800,"d":"$ 2,800.00"}]
[{"$f":"IF(J9=2,\"Monotributista:\",\"\")","v":"Monotributista:"},null,{"$f":"IF(J9=2,\"Pago mensual:\",\"\")","v":"Pago mensual:"},"Hora profesional",{"v":325,"d":"$ 325.00"},{"$f":"IF(J9=2,M12/12,\"\")","v":{"v":42000,"d":"$ 42,000.00"}},{"$nulls":3},2,"Categoría I",9,{"v":822500,"d":"$ 822,500"},{"v":4562.08,"d":"$ 4,562.08"}]
[{"$f":"IF(J9=2,\"\",\"Ingreso mensual:\")","v":""},{"v":50000,"d":"$ 50,000.00"},null,"Fotocopia por hoja",{"v":1.5,"d":"$ 1.50"},{"$nulls":5},"Categoría J",10,{"v":945000,"d":"$ 945,000"},{"v":5239.38,"d":"$ 5,239.38"}]
[{"$nulls":3},"Impresión",{"v":2,"d":"$ 2.00"},{"$nulls":5},"Categoría K",11,{"v":1050000,"d":"$ 1,050,000"},{"v":5922.12,"d":"$ 5,922.12"}]
["Valor hora dedicación:",{"$f":"K19","v":{"v":250,"d":"$ 250.00"}},null,"Tasa de interés:",{"v":0.25,"d":"25%"},"Anual",{"$nulls":4},7,null,{"$f":"LOOKUP(K12,L1:L11,M1:M11)","v":{"v":504000,"d":"$ 504,000.00"}},{"$f":"LOOKUP(K12,L1:L11,N1:N11)","v":{"v":1225,"d":"$ 1,225.00"}}]
[{"$nulls":4},{"$f":"E12/365","v":{"v":6.8493150684931507E-4,"d":"0.0685%"}},"Diaria"]
[{"$nulls":10},"Valores hora"]
[{"$nulls":9},"SMVM",{"$f":"8060/200","v":{"v":40.3,"d":"$ 40.30"}}]
[{"$nulls":9},"Informado",{"$f":"IF(B10=\"\",0,B10/200)","v":{"v":250,"d":"$ 250.00"}}]
[{"$nulls":9},"Monotributista:",{"$f":"IF(J9=2,M12/200/12,0)","v":{"v":210,"d":"$ 210.00"}}]
[{"$nulls":9},"Profesional:",{"$f":"IF(J9=6,E9,0)","v":{"v":0,"d":"$ 0.00"}}]
[{"$nulls":9},"Computado:",{"$f":"MAX(K15:K18)","v":{"v":250,"d":"$ 250.00"}}]